BEGIN:VCALENDAR
VERSION:2.0
PRODID:-//Moulin Blanc Cafe - ECPv6.15.18//NONSGML v1.0//EN
CALSCALE:GREGORIAN
METHOD:PUBLISH
X-ORIGINAL-URL:https://moulinblanccafe.com
X-WR-CALDESC:Events for Moulin Blanc Cafe
REFRESH-INTERVAL;VALUE=DURATION:PT1H
X-Robots-Tag:noindex
X-PUBLISHED-TTL:PT1H
BEGIN:VTIMEZONE
TZID:America/New_York
BEGIN:DAYLIGHT
TZOFFSETFROM:-0500
TZOFFSETTO:-0400
TZNAME:EDT
DTSTART:20240310T070000
END:DAYLIGHT
BEGIN:STANDARD
TZOFFSETFROM:-0400
TZOFFSETTO:-0500
TZNAME:EST
DTSTART:20241103T060000
END:STANDARD
BEGIN:DAYLIGHT
TZOFFSETFROM:-0500
TZOFFSETTO:-0400
TZNAME:EDT
DTSTART:20250309T070000
END:DAYLIGHT
BEGIN:STANDARD
TZOFFSETFROM:-0400
TZOFFSETTO:-0500
TZNAME:EST
DTSTART:20251102T060000
END:STANDARD
BEGIN:DAYLIGHT
TZOFFSETFROM:-0500
TZOFFSETTO:-0400
TZNAME:EDT
DTSTART:20260308T070000
END:DAYLIGHT
BEGIN:STANDARD
TZOFFSETFROM:-0400
TZOFFSETTO:-0500
TZNAME:EST
DTSTART:20261101T060000
END:STANDARD
END:VTIMEZONE
BEGIN:VEVENT
DTSTART;TZID=America/New_York:20250530T080000
DTEND;TZID=America/New_York:20250530T150000
DTSTAMP:20260421T160602
CREATED:20250528T160127Z
LAST-MODIFIED:20250528T160127Z
UID:2262-1748592000-1748617200@moulinblanccafe.com
SUMMARY:Kettlebells & Coffee Part 2
DESCRIPTION:We’re teaming up with DSC Osprey to offer free coffee and gym trials!
URL:https://moulinblanccafe.com/event/kettlebells-coffee-part-2/
LOCATION:Moulin Blanc Café\, 593 N US 41 Bypass\, Venice\, Florida\, 34285\, United States
CATEGORIES:Promotions
ORGANIZER;CN="DSC Osprey":MAILTO:info@dynamicsc.com
END:VEVENT
END:VCALENDAR