BEGIN:VCALENDAR
VERSION:2.0
PRODID:-//Moulin Blanc Cafe - ECPv6.15.18//NONSGML v1.0//EN
CALSCALE:GREGORIAN
METHOD:PUBLISH
X-WR-CALNAME:Moulin Blanc Cafe
X-ORIGINAL-URL:https://moulinblanccafe.com
X-WR-CALDESC:Events for Moulin Blanc Cafe
REFRESH-INTERVAL;VALUE=DURATION:PT1H
X-Robots-Tag:noindex
X-PUBLISHED-TTL:PT1H
BEGIN:VTIMEZONE
TZID:America/New_York
BEGIN:DAYLIGHT
TZOFFSETFROM:-0500
TZOFFSETTO:-0400
TZNAME:EDT
DTSTART:20240310T070000
END:DAYLIGHT
BEGIN:STANDARD
TZOFFSETFROM:-0400
TZOFFSETTO:-0500
TZNAME:EST
DTSTART:20241103T060000
END:STANDARD
BEGIN:DAYLIGHT
TZOFFSETFROM:-0500
TZOFFSETTO:-0400
TZNAME:EDT
DTSTART:20250309T070000
END:DAYLIGHT
BEGIN:STANDARD
TZOFFSETFROM:-0400
TZOFFSETTO:-0500
TZNAME:EST
DTSTART:20251102T060000
END:STANDARD
BEGIN:DAYLIGHT
TZOFFSETFROM:-0500
TZOFFSETTO:-0400
TZNAME:EDT
DTSTART:20260308T070000
END:DAYLIGHT
BEGIN:STANDARD
TZOFFSETFROM:-0400
TZOFFSETTO:-0500
TZNAME:EST
DTSTART:20261101T060000
END:STANDARD
END:VTIMEZONE
BEGIN:VEVENT
DTSTART;TZID=America/New_York:20250527T130000
DTEND;TZID=America/New_York:20250527T150000
DTSTAMP:20260425T231321
CREATED:20250501T200746Z
LAST-MODIFIED:20250616T090132Z
UID:2149-1748350800-1748358000@moulinblanccafe.com
SUMMARY:French Club - Parlez-vous Café?
DESCRIPTION:Come speak French with us at Moulin Blanc Cafe. For all experience levels and nationalities! \nThis is an initial meet-and-greet to gauge everyone’s schedule and availability\, etc. \nDon’t worry\, there will always be seasoned French speakers in attendance to bridge any lulls in the conversation and answer questions!
URL:https://moulinblanccafe.com/event/french-club-meet-greet/
LOCATION:Moulin Blanc Café\, 593 N US 41 Bypass\, Venice\, Florida\, 34285\, United States
CATEGORIES:Clubs and Groups
ORGANIZER;CN="Moulin Blanc Cafe":MAILTO:contact@moulinblanccafe.com
END:VEVENT
END:VCALENDAR