BEGIN:VCALENDAR
VERSION:2.0
PRODID:-//Moulin Blanc Cafe - ECPv6.15.18//NONSGML v1.0//EN
CALSCALE:GREGORIAN
METHOD:PUBLISH
X-ORIGINAL-URL:https://moulinblanccafe.com
X-WR-CALDESC:Events for Moulin Blanc Cafe
REFRESH-INTERVAL;VALUE=DURATION:PT1H
X-Robots-Tag:noindex
X-PUBLISHED-TTL:PT1H
BEGIN:VTIMEZONE
TZID:America/New_York
BEGIN:DAYLIGHT
TZOFFSETFROM:-0500
TZOFFSETTO:-0400
TZNAME:EDT
DTSTART:20240310T070000
END:DAYLIGHT
BEGIN:STANDARD
TZOFFSETFROM:-0400
TZOFFSETTO:-0500
TZNAME:EST
DTSTART:20241103T060000
END:STANDARD
BEGIN:DAYLIGHT
TZOFFSETFROM:-0500
TZOFFSETTO:-0400
TZNAME:EDT
DTSTART:20250309T070000
END:DAYLIGHT
BEGIN:STANDARD
TZOFFSETFROM:-0400
TZOFFSETTO:-0500
TZNAME:EST
DTSTART:20251102T060000
END:STANDARD
BEGIN:DAYLIGHT
TZOFFSETFROM:-0500
TZOFFSETTO:-0400
TZNAME:EDT
DTSTART:20260308T070000
END:DAYLIGHT
BEGIN:STANDARD
TZOFFSETFROM:-0400
TZOFFSETTO:-0500
TZNAME:EST
DTSTART:20261101T060000
END:STANDARD
END:VTIMEZONE
BEGIN:VEVENT
DTSTART;TZID=America/New_York:20251027T123000
DTEND;TZID=America/New_York:20251027T150000
DTSTAMP:20260420T182910
CREATED:20251019T153810Z
LAST-MODIFIED:20251019T185137Z
UID:2774-1761568200-1761577200@moulinblanccafe.com
SUMMARY:Parisian Paper Bag Journals with Carolyn
DESCRIPTION:Let’s create a beautiful French-themed paper bag journal together! ✨ \nIf you’ve always dreamed of Paris\, this workshop is for you. Whether you’re collecting little treasures from your travels or exploring France virtually\, this journal is the perfect place to keep your memories. \n📚 The journal includes: \n• Plenty of pockets for French ephemera \n• Lots of writing space \n• Endless creative options to decorate and personalize your pages \n💌 Feel free to bring your own French-themed ephemera if you have some — otherwise\, everything you need is included! \n📅 Monday\, October 27 from 12:30 pm to 3:00 pm \n📍 Moulin Blanc Café \n💲 $30 per person \nJoin us for a creative and inspiring French escape! 🇫🇷✨ \nDon’t wait to buy your tickets… we’re only accepting 12 people for this very special class!\n 
URL:https://moulinblanccafe.com/event/paper-bag-journal/
LOCATION:Moulin Blanc Café\, 593 N US 41 Bypass\, Venice\, Florida\, 34285\, United States
CATEGORIES:Classes,Clubs and Groups,Crafting
ORGANIZER;CN="Moulin Blanc Cafe":MAILTO:contact@moulinblanccafe.com
END:VEVENT
END:VCALENDAR